BEGIN:VCALENDAR
PRODID:-//GiftTool//Calendar MIMEDIR//EN
VERSION:2.0
METHOD:PUBLISH
BEGIN:VEVENT
DTSTAMP:20170116T050000Z
DTSTART:20170116T050000Z
DTEND:20170522T045900Z
LOCATION;ENCODING=QUOTED-PRINTABLE:Location nearest you, Your City, Your Province
UID:info@start2finishonline.org
DESCRIPTION;ENCODING=QUOTED-PRINTABLE:Join us for Run4Change!=0D=0A=0D=0A=0D=0A=0D=0A=0D=0A=0D=0A=0D=0A=0D=0AYou and your group can make a difference in the lives of children living in poverty. =0D=0A=0D=0AWhether you're an individual, a school, a business, or a group of friends who want to make a difference, we have the opportunity for you!=0D=0A=0D=0ASign up today to participate! =0D=0A=0D=0AOnce registered, you can login to your account to customize your Personal and/or Team donation pages; send emails; manage offline pledges; and view the status of your Personal and/or Team fundraising efforts.=0D=0A=0D=0AAre you a School, Corporate or other group with multiple teams? =0D=0A=0D=0A=0D=0AIf you need assistance in registering more than one team under your group, please email info@run4change.net or call the Start2Finish office at 1-888-320-8844 with your contact information. Once your group is registered, your team leaders will be able to select your group's name when creating their individual teams.=0D=0A=0D=0AWould you like to sponsor a friend or family member?=0D=0A=0D=0A=0D=0AClick "Sponsor a Participant" above to find the person and/or team you would like to support.=0D=0A=0D=0A=0D=0A=0D=0A=0D=0A=0D=0A=0D=0A=0D=0A
SUMMARY:Run4Change 2017
PRIORITY:3
END:VEVENT
END:VCALENDAR
