BEGIN:VCALENDAR
PRODID:-//GiftTool//Calendar MIMEDIR//EN
VERSION:2.0
METHOD:PUBLISH
BEGIN:VEVENT
DTSTAMP:20241005T140000Z
DTSTART:20241005T140000Z
DTEND:20241005T160000Z
LOCATION;ENCODING=QUOTED-PRINTABLE:https://us02web.zoom.us/j/85756288773 Code: Password: Phone: Phone2: Password:
UID:info@cicapp.ca
DESCRIPTION;ENCODING=QUOTED-PRINTABLE:  Spontaneous Art in the Context of Psychoanalytically Oriented=0D=0A    Child Therapy=0D=0A=0D=0A =0D=0A=0D=0A  Sarah Brodie M.A., RP, CICAPP =0D=0A=0D=0A=0D=0A  Saturday, October 5, 2024=0D=0A=0D=0A=0D=0A  10:00 a.m. - 12:00 p.m. EST=0D=0A=0D=0A=0D=0A  =0D=0A    An online virtual presentation via Zoom videoconference.=0D=0A  =0D=0A=0D=0A=0D=0A   =0D=0A=0D=0A=0D=0A  About the presentation=0D=0A=0D=0AIn this 2-hour CICAPP distance-education event, psychotherapist/art=0D=0A  therapist Sarah Brodie will introduce case examples to challenge=0D=0A  participants to align spontaneous art making in the context of=0D=0A  psychoanalytically-oriented child therapy, with case formulation that=0D=0A  underlies the art. In the Q&amp;A discussion, Sarah can lend her=0D=0A  expertise in setting the stage for art making in session work with=0D=0A  children and adolescents, media overview, and suggestions for the=0D=0A  therapist. Sarah will be reading Winnicott?s Playing &amp; Reality to=0D=0A  have as a theoretical touchstone for this discussion. Finally, Sarah=0D=0A  will offer a creative prompt for countertransference art, an asset for=0D=0A  psychoanalytically informed supervision.=0D=0A=0D=0A =0D=0A=0D=0A  About the Presenter=0D=0A=0D=0A=0D=0A  Sarah Brodie is a registered psychotherapist working=0D=0A  in private practice at The Arterie,=0D=0A  in Burlington, Ontario. She trained as an art therapist at Concordia=0D=0A  University, Montreal, and as a child and adolescent psychoanalytic=0D=0A  psychotherapist at CICAPP. Sarah works with both children and adults,=0D=0A  and considers all session work to be creative arts therapy, even when=0D=0A  it's 'spoken word.'=0D=0A=0D=0A =0D=0A=0D=0A  Please note:=0D=0A=0D=0AEnsuring the confidentiality of all clinical material presented and=0D=0A  discussed at our meetings is of the utmost importance and therefore we=0D=0A  do not record seminars.=0D=0A=0D=0A =0D=0A=0D=0A  FEES=0D=0A=0D=0AREGULAR: $75.00=0D=0A=0D=0ACICAPP Candidate/Student: Free (please contact info@cicapp.ca to register)=0D=0A=0D=0A =0D=0A=0D=0A =0D=0A
SUMMARY:Spontaneous Art in the Context of Psychoanalytically Oriented Child Therapy
PRIORITY:3
END:VEVENT
END:VCALENDAR
