BEGIN:VCALENDAR
PRODID:-//GiftTool//Calendar MIMEDIR//EN
VERSION:2.0
METHOD:PUBLISH
BEGIN:VEVENT
DTSTAMP:20251213T180000Z
DTSTART:20251213T180000Z
DTEND:20251213T193000Z
LOCATION;ENCODING=QUOTED-PRINTABLE:https://us06web.zoom.us/j/86097444523?pwd=NK2jzoGPmcaOmTgn14dQkKIxPW2pHb.1  Code:860 9744 4523 Password:356534 Phone: Phone2: Password:
UID:coordinator@editorsbc.ca
DESCRIPTION;ENCODING=QUOTED-PRINTABLE:  Editing the Art of Comic Book Lettering: An Introduction =0D=0A=0D=0A  =0D=0A=0D=0AWhen: Saturday, December 13, 2025, 10:00 am to 11:30 am PST=0D=0A=0D=0AWhere: Online via Zoom=0D=0A=0D=0ABeyond proofreading and copy editing the text in comics, editing the=0D=0A  art and design of the lettering is an integral responsibility of comic=0D=0A  book editors. This seminar will guide you in understanding the art of=0D=0A  lettering and its place as the last stage of production. Participants=0D=0A  will develop an appreciation for how what comes before?in the writing,=0D=0A  the art, and the colouring?all have a role in the success the=0D=0A  lettering will play in the final product. =0D=0A=0D=0AIn this seminar, you?ll learn:=0D=0A=0D=0A  Why composition, clarity, consistency, and purpose are key to the=0D=0A    art of lettering=0D=0A  Where font selection, versatility, conditions, and parameters=0D=0A    affect readability=0D=0A  How size reflects volume in speech and sound effects=0D=0A  How placement of lettering helps guide reading order and eye flow=0D=0A=0D=0AJoin us in this introductory webinar to learn the stylistic editing=0D=0A  of text, shapes, order, and design within the panels and pages of comics. =0D=0A=0D=0AThis seminar will be recorded. =0D=0A=0D=0AOver the past 38 years, Steve Colle's experience in=0D=0A  the comic industry has consisted of retail, editorial, marketing,=0D=0A  and?most passionately?teaching, with his focus on quality and audience=0D=0A  appeal bringing dozens of projects to fruition. In 2018, Steve founded=0D=0A  the Comic Book Editors Alliance, a private Facebook group dedicated to=0D=0A  the professional development of its members, instilling pride and=0D=0A  integrity in comic book editing. =0D=0A
SUMMARY:Editing the Art of Comic Book Lettering: An Introduction
PRIORITY:3
END:VEVENT
END:VCALENDAR
