BEGIN:VCALENDAR
PRODID:-//GiftTool//Calendar MIMEDIR//EN
VERSION:2.0
METHOD:PUBLISH
BEGIN:VEVENT
DTSTAMP:20260225T170000Z
DTSTART:20260225T170000Z
DTEND:20260225T183000Z
LOCATION;ENCODING=QUOTED-PRINTABLE:Your access link will be sent to you by email ahead of each webinar date.  Code: Password: Phone: Phone2: Password:
UID:learning@oasw.org
DESCRIPTION;ENCODING=QUOTED-PRINTABLE:  =0D=0A=0D=0A  Wednesday, February 25, 2026=0D=0A  =0D=0A=0D=0A  12:00 to 1:30 p.m. ET =0D=0A Online=0D=0A  =0D=0A=0D=0A  =0D=0A    Presented by =0D=0A  =0D=0A  =0D=0A    David Archer, Professional Social Worker (OTSTCFQ), Registered=0D=0A      Marriage and Family Therapist (OTSTCFQ), Psychotherapist (OPQ)=0D=0A  =0D=0A=0D=0A=0D=0A  =0D=0A=0D=0A  =0D=0ADescription:=0D=0A=0D=0ADr. Martin Luther King Jr. is usually misremembered every Black=0D=0A  History Month in order to nullify his message. Through audio excerpts=0D=0A  Dr. Martin Luther King Jr's own words will be used to help explain his=0D=0A  revolutionary perspectives. Three core elements will be addressed for=0D=0A  what he was advocating for: &quot;Systemic harmony, elimination of=0D=0A  discord, and Transformation&quot;.=0D=0A =0D=0AThrough these three=0D=0A  elements participants will also learn why anti-racist psychotherapy is=0D=0A  needed, now more than ever, as well as why EMDR therapy and Rhythm and=0D=0A  Processing (RAP) can be helpful and similarly revolutionary=0D=0A  interventions during times of social adversity.=0D=0A=0D=0APresenter Bio:=0D=0A=0D=0ADavid Archer, a professional social worker, couple and family=0D=0A  therapist, and author from Montreal, Canada, is an EMDR International=0D=0A  Association (EMDRIA) Certified EMDR therapy trainer and the developer=0D=0A  of the Rhythm and Processing (RAP) therapeutic framework. He provides=0D=0A  trainings and workshops relating to EMDR therapy and culturally=0D=0A  responsive interventions for culturally diverse and oppressed people=0D=0A  worldwide.=0D=0ACurrently a PhD student at Concordia University, he is=0D=0A  currently seeking to develop scientific support for the RAP approach.=0D=0A  Inspired by decolonial and revolutionary scholars, he specializes in=0D=0A  treating complex trauma-based disorders using visualizations, online=0D=0A  videos, and advanced neuroscientific-informed strategies. An=0D=0A  award-winning researcher known for engaging presentations and=0D=0A  insightful books, which include Anti-Racist Psychotherapy and Racial=0D=0A  Trauma Recovery, he is an emerging leader in the world of EMDR therapy.=0D=0A=0D=0A =0D=0A=0D=0A  =0D=0A    =0D=0A      Pricing:=0D=0A    =0D=0A  =0D=0A=0D=0A  =0D=0A    OASW Members: Free (OASW member=0D=0A        ID # required)=0D=0A    =0D=0A  =0D=0A  =0D=0A    Non-Members: $20 + HST per webinar=0D=0A  =0D=0A=0D=0A=0D=0A  =0D=0A    NOTE ABOUT REGISTRATION QUESTIONS:=0D=0A    =0D=0AOASW is committed to inclusion and promoting a diverse range of=0D=0A    identities, experiences, perspectives, and voices across all areas=0D=0A    of the Association. As such, the registration contains some optional=0D=0A    questions that are intended to assist us to better understand our=0D=0A    social work community and ensure that our work is reflective of the=0D=0A    diverse membership of OASW and our profession.=0D=0A=0D=0A=0D=0A  =0D=0A    Not a member? =0D=0A        =0D=0A          Join=0D=0A              OASW today=0D=0A          =0D=0A      =0D=0A    =0D=0A  =0D=0A=0D=0A =0D=0A
SUMMARY:OLC Webinar: The Inspiration of MLK: Black Masculinity, Black History and Anti-Racist Psychotherapy
PRIORITY:3
END:VEVENT
END:VCALENDAR
