BEGIN:VCALENDAR
PRODID:-//GiftTool//Calendar MIMEDIR//EN
VERSION:2.0
METHOD:PUBLISH
BEGIN:VEVENT
DTSTAMP:20260606T000000Z
DTSTART:20260606T000000Z
DTEND:20260608T020000Z
LOCATION;ENCODING=QUOTED-PRINTABLE:2401 Point Grey Rd, Vancouver, BC
UID:delani@bcsailing.bc.ca
DESCRIPTION;ENCODING=QUOTED-PRINTABLE:CANSail 1-4 Technical Clinic:=0D=0A=0D=0AKitsilano Yacht Club=0D=0A=0D=0A2401 Point Grey Rd, Vancouver, BC V6K 1A1=0D=0A=0D=0AFull In-person Course Delivery=0D=0A=0D=0AJune 5, 6, 7, 2026=0D=0A=0D=0ACost: $375 + tax=0D=0A=0D=0A =0D=0A=0D=0APrerequisite Courses: Fundamental=0D=0A=0D=0AThe technical clinic is a very hands-on, practical course=0D=0A  using the theory learned in the Fundamental Clinic. This course covers=0D=0A  the on water delivery of CANSail Material, class management and engagement.=0D=0A=0D=0A =0D=0A=0D=0AJune 5: 5:00PM-9:00PM PST In-person=0D=0A=0D=0AJune 6: 9:00AM-7:00PM PST In-person=0D=0A=0D=0AJune 7: 9:00AM-7:00PM PST In-person=0D=0A=0D=0A =0D=0A=0D=0APlease note that 100% participation and attendance is=0D=0A  required to satisfy the professionalism standards of this course.=0D=0A=0D=0A  *Please download course materials from confirmation email and=0D=0A    review prior to the course.=0D=0A=0D=0A =0D=0A=0D=0A =0D=0A
SUMMARY:CANSail 1-4 Technical Clinic - Kitsilano Yacht Club: June 5, 6, 7, 2026
PRIORITY:3
END:VEVENT
END:VCALENDAR
