BEGIN:VCALENDAR
PRODID:-//GiftTool//Calendar MIMEDIR//EN
VERSION:2.0
METHOD:PUBLISH
BEGIN:VEVENT
DTSTAMP:20260307T010000Z
DTSTART:20260307T010000Z
DTEND:20260308T010000Z
LOCATION;ENCODING=QUOTED-PRINTABLE:1300 Discovery St, Vancouver, BC
UID:delani@bcsailing.bc.ca
DESCRIPTION;ENCODING=QUOTED-PRINTABLE:Coach Boat Safety Clinic:=0D=0A=0D=0AMacSailing - Jericho Beach Park=0D=0A=0D=0A1300 Discovery St, Vancouver, BC V6R 4L9=0D=0A=0D=0AFull In-person Course Delivery=0D=0A=0D=0AMarch 6, 7, 2026=0D=0A=0D=0ACost: $120 + tax=0D=0A=0D=0APrerequisite Courses: Pleasure Craft Operator?s Card=0D=0A=0D=0AThis Coach Boat Safety Clinic is the required course for=0D=0A  operating a vessel while coaching athletes. This is a hands on course=0D=0A  that covers important safety practices and practical operation of a=0D=0A  vessel in a coaching environment. This is a 1.5 day course on the=0D=0A  water, in person.=0D=0A=0D=0A =0D=0A=0D=0AMarch 6: 5:00PM-9:00PM PST In-person=0D=0A=0D=0AMarch 7: 9:00AM-5:00PM PST In-person=0D=0A=0D=0A =0D=0A=0D=0A *Please download course materials provided in confirmation email. =0D=0A=0D=0A =0D=0A=0D=0A =0D=0A=0D=0A =0D=0A
SUMMARY:Coach Boat Safety Clinic - MacSailing: March 6, 7, 2026
PRIORITY:3
END:VEVENT
END:VCALENDAR
