BEGIN:VCALENDAR
PRODID:-//GiftTool//Calendar MIMEDIR//EN
VERSION:2.0
METHOD:PUBLISH
BEGIN:VEVENT
DTSTAMP:20260614T160000Z
DTSTART:20260614T160000Z
DTEND:20260615T000000Z
LOCATION;ENCODING=QUOTED-PRINTABLE:1949 Marina Way, North Saanich, BC
UID:delani@bcsailing.bc.ca
DESCRIPTION;ENCODING=QUOTED-PRINTABLE:Wetfeet Module:=0D=0A=0D=0ASidney North Saanich Yacht Club=0D=0A=0D=0A1949 Marina Way, North Saanich, BC V8L 6B3=0D=0A=0D=0AFull In-person Course Delivery=0D=0A=0D=0AJune 14, 2026=0D=0A=0D=0ACost: $180 + tax=0D=0A=0D=0AJune 14: 9:00AM-5:00PM PST In-person=0D=0A=0D=0APrerequisite Courses: Minimum Sail Canada CANSail 1/2=0D=0A  Trained and Certified instructors are elibigle to take this course. =0D=0A=0D=0AWet Feet is a professional development module for current=0D=0A  Sail Canada Instructors looking to expand their instructional base.=0D=0A  CANSail Wet Feet is a program for delivery specific to 5-8-year-olds.=0D=0A  The curriculum, lesson plans, and teaching methods are specific to=0D=0A  engaging this young group while inadvertently teaching them about=0D=0A  sailing boats, water safety, and fundamental movement and balance=0D=0A  skills in Optimist Dinghies and dockside.=0D=0A
SUMMARY:Wetfeet Module - SNSYC: June 14, 2026
PRIORITY:3
END:VEVENT
END:VCALENDAR
