BEGIN:VCALENDAR
PRODID:-//GiftTool//Calendar MIMEDIR//EN
VERSION:2.0
METHOD:PUBLISH
BEGIN:VEVENT
DTSTAMP:20260101T080000Z
DTSTART:20260101T080000Z
DTEND:20261201T075900Z
LOCATION;ENCODING=QUOTED-PRINTABLE:3820 Cessna Dr, Richmond, British Colombia
UID:delani@bcsailing.bc.ca
DESCRIPTION;ENCODING=QUOTED-PRINTABLE:  =0D=0A    2026 CANSail Instructor Evaluation=0D=0A  =0D=0A=0D=0ABC Sailing offers coaching evaluations across the province. This=0D=0A  evaluation must be completed within 2 years of becoming a trained=0D=0A  coach, in order to become certified.=0D=0A=0D=0A =0D=0A=0D=0A*If it is not completed within the two years, your coaching=0D=0A  certification will expire and you will need to take the full technical=0D=0A  course again.=0D=0A=0D=0A =0D=0A=0D=0A  =0D=0A    Here is how scheduling=0D=0A        an Evaluation works:=0D=0A  =0D=0A=0D=0A  Please note that the evaluation will need to take place=0D=0A    during a &quot;live&quot; water session with real athletes.=0D=0A  The Evaluation will take a=0D=0A    minimum of 2 hours.=0D=0A  All instructors requesting an evaluation will need to pay the $120=0D=0A      Evaluation fee prior to=0D=0A    us scheduling a Learning Facilitator.=0D=0A  Please let us know where works best for you to be evaluated and=0D=0A    what level you are looking to certify. =0D=0A  Contact delani@bcsailing.bc.ca to=0D=0A    arrange your evaluation once you have completed payment. =0D=0A=0D=0A
SUMMARY:2026 CANSail Instructor Evaluations
PRIORITY:3
END:VEVENT
END:VCALENDAR
