BEGIN:VCALENDAR
PRODID:-//GiftTool//Calendar MIMEDIR//EN
VERSION:2.0
METHOD:PUBLISH
BEGIN:VEVENT
DTSTAMP:20260321T000000Z
DTSTART:20260321T000000Z
DTEND:20260323T020000Z
LOCATION;ENCODING=QUOTED-PRINTABLE:5854 Marine Dr, West Vancouver, BC
UID:delani@bcsailing.bc.ca
DESCRIPTION;ENCODING=QUOTED-PRINTABLE:CANSail 1-4 Technical Clinic:=0D=0A=0D=0AWest Vancouver Yacht Club=0D=0A=0D=0A5854 Marine Dr, West Vancouver, BC V7W 2S2=0D=0A=0D=0AFull In-person Course Delivery=0D=0A=0D=0AMarch 20, 21, 22, 2026=0D=0A=0D=0ACost: $375 + tax=0D=0A=0D=0A =0D=0A=0D=0APrerequisite Courses: Fundamental=0D=0A=0D=0AThe technical clinic is a very hands-on, practical course=0D=0A  using the theory learned in the Fundamental Clinic. This course covers=0D=0A  the on water delivery of CANSail Material, class management and engagement.=0D=0A=0D=0A =0D=0A=0D=0AMarch 20: 5:00PM-9:00PM PST In-person=0D=0A=0D=0AMarch 21: 9:00AM-7:00PM PST In-person=0D=0A=0D=0AMarch 22: 9:00AM-7:00PM PST In-person=0D=0A=0D=0A =0D=0A=0D=0APlease note that 100% participation and attendance is=0D=0A  required to satisfy the professionalism standards of this course.=0D=0A=0D=0A  *Please download course materials from confirmation email and=0D=0A    review prior to the course.=0D=0A=0D=0A =0D=0A=0D=0A =0D=0A
SUMMARY:CANSail 1-4 Technical Clinic - West Vancouver Yacht Club: March 20, 21, 22, 2026
PRIORITY:3
END:VEVENT
END:VCALENDAR
