BEGIN:VCALENDAR
PRODID:-//GiftTool//Calendar MIMEDIR//EN
VERSION:2.0
METHOD:PUBLISH
BEGIN:VEVENT
DTSTAMP:20260426T193000Z
DTSTART:20260426T193000Z
DTEND:20260426T223000Z
LOCATION;ENCODING=QUOTED-PRINTABLE:150 Morrissey Boulevard, Boston, MA
UID:dhinchen@ivcusa.org
DESCRIPTION;ENCODING=QUOTED-PRINTABLE:  =0D=0A=0D=0A
SUMMARY:New England Madonna Della Strada Award Ceremony 2026
PRIORITY:3
END:VEVENT
END:VCALENDAR
